BEGIN:VCALENDAR
VERSION:2.0
PRODID:-//Cà Da Lus - ECPv6.15.20//NONSGML v1.0//EN
CALSCALE:GREGORIAN
METHOD:PUBLISH
X-ORIGINAL-URL:https://www.cadalus.ch
X-WR-CALDESC:Eventi per Cà Da Lus
REFRESH-INTERVAL;VALUE=DURATION:PT1H
X-Robots-Tag:noindex
X-PUBLISHED-TTL:PT1H
BEGIN:VTIMEZONE
TZID:Europe/Paris
BEGIN:DAYLIGHT
TZOFFSETFROM:+0100
TZOFFSETTO:+0200
TZNAME:CEST
DTSTART:20250330T010000
END:DAYLIGHT
BEGIN:STANDARD
TZOFFSETFROM:+0200
TZOFFSETTO:+0100
TZNAME:CET
DTSTART:20251026T010000
END:STANDARD
BEGIN:DAYLIGHT
TZOFFSETFROM:+0100
TZOFFSETTO:+0200
TZNAME:CEST
DTSTART:20260329T010000
END:DAYLIGHT
BEGIN:STANDARD
TZOFFSETFROM:+0200
TZOFFSETTO:+0100
TZNAME:CET
DTSTART:20261025T010000
END:STANDARD
BEGIN:DAYLIGHT
TZOFFSETFROM:+0100
TZOFFSETTO:+0200
TZNAME:CEST
DTSTART:20270328T010000
END:DAYLIGHT
BEGIN:STANDARD
TZOFFSETFROM:+0200
TZOFFSETTO:+0100
TZNAME:CET
DTSTART:20271031T010000
END:STANDARD
END:VTIMEZONE
BEGIN:VEVENT
DTSTART;TZID=Europe/Paris:20260906T100000
DTEND;TZID=Europe/Paris:20260906T180000
DTSTAMP:20260420T141349
CREATED:20260330T103503Z
LAST-MODIFIED:20260330T112706Z
UID:742-1788688800-1788717600@www.cadalus.ch
SUMMARY:corso 1° livello Campane Tibetane
DESCRIPTION:una giornata full immersion per apprendere storia\, filosofia e utilizzo delle campane tibetane. \nCorso dedicato a  a chi desidera partecipare a un’esperienza per arricchire il proprio bagaglio interiore\, operatori del settore benessere\, insegnanti di yoga\, operatori reiki educatori e operatori sociali. \nprogramma: \n\nintroduzione al mondo delle campane tibetane\, storia e filosofia.\ntipologia di campane tibetane in commercio (quali scegliere)\ntecniche di respiro e rilassamento\nconnessione tra suono e riequilibrio interiore\ncome si suona la campana tibetana\ntecniche per pulizia energetica\, riequilibrio dei chakra\, auto trattamento e trattamento su altre persone.\ncampane e reiki\, utilizzo simultaneo delle due tecniche.\n\ncosa otterrai: \n\nattestato di partecipazione\nguida teorico-pratica sull’utilizzo delle campane\nesperienza pratica\n\ninfo: \nprenotazioni:
URL:https://www.cadalus.ch/evento/corso-1-livello-campane-tibetane/
LOCATION:Il Loft\, via Molini 47\, Losone\, 6616\, Switzerland
CATEGORIES:corso campane,Rosario
ATTACH;FMTTYPE=image/png:https://www.cadalus.ch/wp-content/uploads/2026/03/SOUND-HEALING-Losone-aprile-6.png
END:VEVENT
END:VCALENDAR