BEGIN:VCALENDAR
VERSION:2.0
PRODID:-//Cà Da Lus - ECPv6.15.20//NONSGML v1.0//EN
CALSCALE:GREGORIAN
METHOD:PUBLISH
X-WR-CALNAME:Cà Da Lus
X-ORIGINAL-URL:https://www.cadalus.ch
X-WR-CALDESC:Eventi per Cà Da Lus
REFRESH-INTERVAL;VALUE=DURATION:PT1H
X-Robots-Tag:noindex
X-PUBLISHED-TTL:PT1H
BEGIN:VTIMEZONE
TZID:Europe/Paris
BEGIN:DAYLIGHT
TZOFFSETFROM:+0100
TZOFFSETTO:+0200
TZNAME:CEST
DTSTART:20250330T010000
END:DAYLIGHT
BEGIN:STANDARD
TZOFFSETFROM:+0200
TZOFFSETTO:+0100
TZNAME:CET
DTSTART:20251026T010000
END:STANDARD
BEGIN:DAYLIGHT
TZOFFSETFROM:+0100
TZOFFSETTO:+0200
TZNAME:CEST
DTSTART:20260329T010000
END:DAYLIGHT
BEGIN:STANDARD
TZOFFSETFROM:+0200
TZOFFSETTO:+0100
TZNAME:CET
DTSTART:20261025T010000
END:STANDARD
BEGIN:DAYLIGHT
TZOFFSETFROM:+0100
TZOFFSETTO:+0200
TZNAME:CEST
DTSTART:20270328T010000
END:DAYLIGHT
BEGIN:STANDARD
TZOFFSETFROM:+0200
TZOFFSETTO:+0100
TZNAME:CET
DTSTART:20271031T010000
END:STANDARD
END:VTIMEZONE
BEGIN:VEVENT
DTSTART;TZID=Europe/Paris:20260515T193000
DTEND;TZID=Europe/Paris:20260515T203000
DTSTAMP:20260423T105024
CREATED:20260420T182037Z
LAST-MODIFIED:20260420T185828Z
UID:924-1778873400-1778877000@www.cadalus.ch
SUMMARY:Sound Healing meditation Lumino
DESCRIPTION:Dedicare un momento a se stessi per rilassarsi\, rigenerarsi e ritrovare un nuovo equilibrio interiore. \nlasciarsi avvolgere dalle sonorità e dalle vibrazioni delle campane tibetane e raggiungere uno stato di pace a armonia. \nvenerdi 15 maggio 2026 \n19.30-20.30 \nYomatine \nvia Bellinzona 61 \nLumino \ninfo \nprenotazioni
URL:https://www.cadalus.ch/evento/sound-healing-meditation-lumino/
LOCATION:yomatime\, via Bellinzona 61\, Lumino\, 6533\, Switzerland
CATEGORIES:Rosario,Sound healing
ATTACH;FMTTYPE=image/png:https://www.cadalus.ch/wp-content/uploads/2026/04/SOUND-HEALING-yomatime-Post-Instagram.png
END:VEVENT
END:VCALENDAR